BEGIN:VCALENDAR
VERSION:2.0
PRODID:-//hacksw/handcal//NONSGML v1.0//EN
BEGIN:VEVENT
SUMMARY:U15M-A
UID:0b0b013b-e933-4730-9a95-cb86ed084788
DTSTART:20260411T123000Z
DTEND:20260411T220000Z
LOCATION:Localisation   
CATEGORIES:Sportif
STATUS:
URL;VALUE=URI:https://www.vsfbasket.com/evenements/2026/04/11/u15m-a-2441567
END:VEVENT
END:VCALENDAR
