BEGIN:VCALENDAR
VERSION:2.0
PRODID:-//hacksw/handcal//NONSGML v1.0//EN
BEGIN:VEVENT
SUMMARY:U18M-A
UID:f3c50bcd-2b70-4e8f-a78b-57effd35ed17
DTSTART:20260412T091500Z
DTEND:20260412T220000Z
LOCATION:Localisation   
CATEGORIES:Sportif
STATUS:
URL;VALUE=URI:https://www.vsfbasket.com/evenements/2026/04/12/u18m-a-2441566
END:VEVENT
END:VCALENDAR
