BEGIN:VCALENDAR
VERSION:2.0
PRODID:-//hacksw/handcal//NONSGML v1.0//EN
BEGIN:VEVENT
SUMMARY:U15F
UID:428828a9-7967-4af2-94b0-27094da5dce9
DTSTART:20260419T110000Z
DTEND:20260419T220000Z
LOCATION:Localisation   
CATEGORIES:Sportif
STATUS:
URL;VALUE=URI:https://www.vsfbasket.com/evenements/2026/04/19/u15f-2443523
END:VEVENT
END:VCALENDAR
